BEGIN:VCALENDAR
VERSION:2.0
PRODID:-//Swing Together - ECPv6.15.15//NONSGML v1.0//EN
CALSCALE:GREGORIAN
METHOD:PUBLISH
X-WR-CALNAME:Swing Together
X-ORIGINAL-URL:https://swingtogether.fr/fr
X-WR-CALDESC:Évènements pour Swing Together
REFRESH-INTERVAL;VALUE=DURATION:PT1H
X-Robots-Tag:noindex
X-PUBLISHED-TTL:PT1H
BEGIN:VTIMEZONE
TZID:Europe/Paris
BEGIN:DAYLIGHT
TZOFFSETFROM:+0100
TZOFFSETTO:+0200
TZNAME:CEST
DTSTART:20250330T010000
END:DAYLIGHT
BEGIN:STANDARD
TZOFFSETFROM:+0200
TZOFFSETTO:+0100
TZNAME:CET
DTSTART:20251026T010000
END:STANDARD
BEGIN:DAYLIGHT
TZOFFSETFROM:+0100
TZOFFSETTO:+0200
TZNAME:CEST
DTSTART:20260329T010000
END:DAYLIGHT
BEGIN:STANDARD
TZOFFSETFROM:+0200
TZOFFSETTO:+0100
TZNAME:CET
DTSTART:20261025T010000
END:STANDARD
BEGIN:DAYLIGHT
TZOFFSETFROM:+0100
TZOFFSETTO:+0200
TZNAME:CEST
DTSTART:20270328T010000
END:DAYLIGHT
BEGIN:STANDARD
TZOFFSETFROM:+0200
TZOFFSETTO:+0100
TZNAME:CET
DTSTART:20271031T010000
END:STANDARD
END:VTIMEZONE
BEGIN:VEVENT
DTSTART;TZID=Europe/Paris:20260904T180000
DTEND;TZID=Europe/Paris:20260907T010000
DTSTAMP:20260421T124847
CREATED:20260305T142500Z
LAST-MODIFIED:20260305T142500Z
UID:330692-1788544800-1788742800@swingtogether.fr
SUMMARY:Bretzel Swing 2026
DESCRIPTION:The Bretzel Swing is back and it’s going to be crazy: \n✅ 4 course levels (4 x 4h30 lessons)\n✅ 3 WCS parties !\n✅ Jack’n’Jills with prizes for the winners 🎁\n✅ Pros-winners Jack’n’Jill \nBe sure to join us for this incredible event! \nMore information : https://swingtogether.fr/en/bretzel-swing/
URL:https://swingtogether.fr/fr/event/bretzel-swing-2026/
END:VEVENT
END:VCALENDAR